BEGIN:VCALENDAR
VERSION:2.0
PRODID:https://www.nordenmachinery.com
X-PUBLISHED-TTL:P1W
BEGIN:VEVENT
UID:69eb6788688db
DTSTART;VALUE=DATE:20220614
SEQUENCE:0
TRANSP:OPAQUE
DTEND;VALUE=DATE:20220618
URL:https://www.nordenmachinery.com/en/exhibitions/cophex-seoul
LOCATION:Korea International Exhibition Centre - KINTEX
SUMMARY:COPHEX\, Seoul
CLASS:PUBLIC
X-ALT-DESC;FMTTYPE=text/html:<p>Innotech Systems Ltd &amp\; Norden Machiner
 y is participating at COPHEX\, Korea.&nbsp\;</p>\n\n<p>Kintex - Korea Inte
 rnational Exhibition Center</p>\n\, coesia_editor_manager
X-MICROSOFT-CDO-ALLDAYEVENT:TRUE
DTSTAMP:20260424T145224Z
END:VEVENT
END:VCALENDAR