BEGIN:VCALENDAR
VERSION:2.0
PRODID:https://www.nordenmachinery.com
X-PUBLISHED-TTL:P1W
BEGIN:VEVENT
UID:69eb95227648b
DTSTART;VALUE=DATE:20220713
SEQUENCE:0
TRANSP:OPAQUE
DTEND;VALUE=DATE:20220717
URL:https://www.nordenmachinery.com/en/exhibitions/interphex-tokyo-japan
SUMMARY:INTERPHEX Tokyo\, Japan
CLASS:PUBLIC
X-ALT-DESC;FMTTYPE=text/html:<p>Norden and Gadelius in exhibiting at&nbsp\;
 INTERPHEX on July 13-16\, 2022&nbsp\;<br />\nINTERPHEX is&nbsp\;Japan's la
 rgest exhibition for pharmaceutical and cosmetics manufacturing technologi
 es.&nbsp\;</p>\n\, coesia_editor_manager
X-MICROSOFT-CDO-ALLDAYEVENT:TRUE
DTSTAMP:20260424T180658Z
END:VEVENT
END:VCALENDAR