BEGIN:VCALENDAR
VERSION:2.0
PRODID:https://www.nordenmachinery.com
X-PUBLISHED-TTL:P1W
BEGIN:VEVENT
UID:69eb13bc6df90
DTSTART;VALUE=DATE:20190923
SEQUENCE:0
TRANSP:OPAQUE
DTEND;VALUE=DATE:20190926
URL:https://www.nordenmachinery.com/en/exhibitions/pack-expo
LOCATION:Las Vegas\, NV
SUMMARY:PACK EXPO
CLASS:PUBLIC
X-ALT-DESC;FMTTYPE=text/html:<p>Norden will be at PACK EXPO in Las Vegas. T
 he show is open from 9AM to 4PM&nbsp\;daily. Click <a href=\"https://www.p
 ackexpolasvegas.com/\" target=\"_blank\">here </a>for more info.</p>\n\n<p
 >&nbsp\;</p>\n\n<p>&nbsp\;</p>\n\, coesia_editor_manager
X-MICROSOFT-CDO-ALLDAYEVENT:TRUE
DTSTAMP:20260424T085452Z
END:VEVENT
END:VCALENDAR