BEGIN:VCALENDAR
VERSION:2.0
PRODID:https://www.nordenmachinery.com
X-PUBLISHED-TTL:P1W
BEGIN:VEVENT
UID:69eb246f70c37
DTSTART;VALUE=DATE:20190319
SEQUENCE:0
TRANSP:OPAQUE
DTEND;VALUE=DATE:20190322
URL:https://www.nordenmachinery.com/en/exhibitions/welcome-to-meet-nordendu
 ring-propak-vietnam-on-march-1921-2019
LOCATION:Saigon Exhibition and Convention Center (SECC)\, 799 Nguyen Van Li
 nh Parkway\, District 7\, Ho Chi Minh City\, Vietnam
SUMMARY:Welcome to meet Norden during Propak Vietnam\, on March 19-21 2019
  
CLASS:PUBLIC
X-ALT-DESC;FMTTYPE=text/html:<p><strong>Date:&nbsp\;</strong>19 - 21 March\
 , 2019 (Tues - Thurs)</p>\n\n<p><strong>Opening Hours:&nbsp\;</strong>9:00
  AM&nbsp\;– 5:00 PM&nbsp\;daily</p>\n\n<p><iframe allowfullscreen=\"\" f
 rameborder=\"0\" height=\"360\" mozallowfullscreen=\"\" src=\"https://play
 er.vimeo.com/video/324797259\" webkitallowfullscreen=\"\" width=\"640\"></
 iframe></p>\n\, coesia_editor_manager
X-MICROSOFT-CDO-ALLDAYEVENT:TRUE
DTSTAMP:20260424T100607Z
END:VEVENT
END:VCALENDAR