BEGIN:VCALENDAR
VERSION:2.0
PRODID:https://www.nordenmachinery.com
X-PUBLISHED-TTL:P1W
BEGIN:VEVENT
UID:69ead881948fa
DTSTART;VALUE=DATE:20251202
SEQUENCE:0
TRANSP:OPAQUE
DTEND;VALUE=DATE:20251205
URL:https://www.nordenmachinery.com/en/exhibitions/norden-at-pharm-asia-202
 5-meet-us-in-karachi
LOCATION:Karachi Expo Center\, Karachi - Pakistan
SUMMARY:Norden at Pharm Asia 2025 – Meet Us in Karachi
CLASS:PUBLIC
X-ALT-DESC;FMTTYPE=text/html:<p>Norden\, in collaboration with our local pa
 rtner <strong>Shabbir International</strong>\, will participate in <a href
 =\"https://pharmaasia.com.pk/\"><strong>Pharm Asia 2025</strong></a>\, the
  leading exhibition for pharmaceutical manufacturing in Pakistan.</p><p>Jo
 in us to discover how Norden’s tube filling and packaging solutions can 
 help future-proof your pharmaceutical production. Our experts will be avai
 lable to discuss tailored automation strategies that meet your performance
  and compliance goals.</p><p><strong>We look forward to seeing you in Kara
 chi!&nbsp\;</strong></p>\, coesia_editor_manager
X-MICROSOFT-CDO-ALLDAYEVENT:TRUE
DTSTAMP:20260424T044209Z
END:VEVENT
END:VCALENDAR