BEGIN:VCALENDAR
VERSION:2.0
PRODID:https://www.nordenmachinery.com
X-PUBLISHED-TTL:P1W
BEGIN:VEVENT
UID:69eadb1245565
DTSTART;VALUE=DATE:20251104
SEQUENCE:0
TRANSP:OPAQUE
DTEND;VALUE=DATE:20251108
URL:https://www.nordenmachinery.com/en/exhibitions/experience-tube-filling-
 and-packaging-for-pharma-cosmetics-and-personal-care-at-andinapack-2025
LOCATION:Bogotá\, Colombia
SUMMARY:Experience tube filling and packaging for pharma\, cosmetics\, and 
 personal care at ANDINAPACK 2025
CLASS:PUBLIC
X-ALT-DESC;FMTTYPE=text/html:<p>We’re excited to announce that <strong>No
 rden</strong> will be proudly represented by our trusted agent <strong>Han
 seatica</strong> at this year’s <strong>ANDINAPACK</strong> in Bogotá\,
  Colombia.</p><p>You’ll find us at <strong>Pavilion 11–16\, Stands 102
 2 + 1211A\,</strong> where our partner will welcome you to discuss Norden
 ’s latest innovations in <strong>tube filling and packaging solutions</s
 trong>.</p><p>Come by to connect with our team and discover how Norden can
  support your production needs with reliable\, high-performance technologi
 es.</p><p>We look forward to seeing you there!</p><p><strong>Meet Us:&nbsp
 \;</strong><br><strong>Dates:</strong> November 4–7\, 2025&nbsp\;<br><st
 rong>Venue:</strong> Corferias Exhibition Center\, Bogotá\, Colombia&nbsp
 \;<br><strong>Location:</strong> Pavilion 11–16\, Stands 1022 + 1211A</p
 >\, coesia_editor_manager
X-MICROSOFT-CDO-ALLDAYEVENT:TRUE
DTSTAMP:20260424T045306Z
END:VEVENT
END:VCALENDAR