BEGIN:VCALENDAR
VERSION:2.0
PRODID:https://www.nordenmachinery.com
X-PUBLISHED-TTL:P1W
BEGIN:VEVENT
UID:69eabf799489c
DTSTART;VALUE=DATE:20251125
SEQUENCE:0
TRANSP:OPAQUE
DTEND;VALUE=DATE:20251127
URL:https://www.nordenmachinery.com/en/exhibitions/norden-at-future-battery
 -forum-2025-powering-the-future-of-battery-production
LOCATION:Berlin\, Germany
SUMMARY:Norden at Future Battery Forum 2025: Powering the Future of Battery
  Production
CLASS:PUBLIC
X-ALT-DESC;FMTTYPE=text/html:<p>Join <strong>Norden</strong> at the <strong
 >Future Battery Forum 2025</strong> on <strong>November 25–26 </strong>i
 n <strong>Berlin</strong>\, at the <strong>Coesia booth L03</strong>\, whe
 re innovation meets energy.</p><p>Meet our team at the <strong>Coesia boot
 h L03</strong>\, together with our sister companies <strong>COMAS\, FlexLi
 nk\, G.D\, and System Electronics</strong>.</p><p>The <strong>Coesia Group
 </strong> will present its advanced production capabilities designed to ac
 celerate time to market\, enhance productivity\, and optimize total cost o
 f ownership across the battery manufacturing process.</p><p>Coesia’s com
 prehensive production line isn’t just a collection of machines—it’s 
 a strategically engineered system where each stage complements the next. A
 t <strong>Norden</strong>\, we are proud to be part of this journey throug
 h the development of an <strong>innovative electrolyte filling solution en
 hancing flexibility and modularity.</strong></p><p>Stop by <strong>booth L
 03</strong> to discover more and see how Coesia can support your transitio
 n toward a smarter\, more efficient\, and sustainable battery production l
 ine.&nbsp\;</p>\, coesia_editor_manager
X-MICROSOFT-CDO-ALLDAYEVENT:TRUE
DTSTAMP:20260424T025521Z
END:VEVENT
END:VCALENDAR