BEGIN:VCALENDAR
VERSION:2.0
PRODID:https://www.nordenmachinery.com
X-PUBLISHED-TTL:P1W
BEGIN:VEVENT
UID:69ead9b942141
DTSTART;VALUE=DATE:20251021
SEQUENCE:0
TRANSP:OPAQUE
DTEND;VALUE=DATE:20251025
URL:https://www.nordenmachinery.com/en/exhibitions/visit-norden-at-allpack-
 indonesia-2025
LOCATION:Kemayoran\, Jakarta – Indonesia 
SUMMARY:Visit NORDEN at AllPack Indonesia 2025
CLASS:PUBLIC
X-ALT-DESC;FMTTYPE=text/html:<p><span class=\"cf0\">Norden\, together with 
 our agent <strong>Ravinco</strong>\, will participate in <strong>AllPack I
 ndonesia 2025</strong>\, the international exhibition on processing\, pack
 aging\, automation\, handling for food &amp\; beverage\, pharmaceutical an
 d cosmetic.</span></p><p><span class=\"cf0\">From <strong>October 21 to 24
 </strong> at <strong>JIExpo Kemayoran\, Hall A\, Booth AC-011</strong>\, v
 isitors will have the opportunity to discover the </span><a href=\"https:/
 /www.nordenmachinery.com/en/nml-150\"><span class=\"cf0\"><strong>NML 150 
 tube filling machine</strong></span></a><span class=\"cf0\">\, a high-prec
 ision and reliable solution designed to enhance productivity and tube fill
 ing quality.</span></p><p><span class=\"cf0\">Norden experts\, alongside r
 epresentatives from <strong>FlexLink\, Citus Kalix\, and GF\,</strong> wil
 l be available to discuss complete automation solutions to meet diverse pr
 oduction needs.</span></p>\, coesia_editor_manager
X-MICROSOFT-CDO-ALLDAYEVENT:TRUE
DTSTAMP:20260424T044721Z
END:VEVENT
END:VCALENDAR