BEGIN:VCALENDAR
VERSION:2.0
PRODID:https://www.nordenmachinery.com
X-PUBLISHED-TTL:P1W
BEGIN:VEVENT
UID:69eac1084446a
DTSTART;VALUE=DATE:20250923
SEQUENCE:0
TRANSP:OPAQUE
DTEND;VALUE=DATE:20250926
URL:https://www.nordenmachinery.com/en/exhibitions/norden-at-ppma-2025
LOCATION:Birmingham\, UK
SUMMARY:Norden at PPMA 2025
CLASS:PUBLIC
X-ALT-DESC;FMTTYPE=text/html:<p>Join Norden at <strong>PPMA 2025</strong>\,
  the UK’s leading processing and packaging machinery exhibition. From Se
 ptember 23 to 25 at the NEC Birmingham\, visit Hall 5\, Booth E54 to explo
 re our advanced tube filling and packaging automation solutions.</p><p>On 
 display will be Norden’s <strong>NM 702 tube filler</strong> and <strong
 >NTP 80 case and tray packer</strong>:</p><ul><li><strong>NM 702 Tube Fill
 er</strong> – High-efficiency\, flexible filling and sealing for a wide 
 range of tube materials\, with options like swirl and 3-color filling for 
 enhanced product presentation.</li><li><strong>NTP 80 Case and Tray Packer
 </strong> – Compact and versatile\, capable of packing tubes or bottles 
 with fast\, tool-free changeovers and intuitive operation.</li></ul><p>Mee
 t our experts to discuss how Norden can enhance your automation\, efficien
 cy\, and production reliability. Norden will be joined by <strong>FlexLink
 </strong>\, <strong>GF</strong>\, and <strong>Volpak</strong> at the Coesi
 a booth\, offering a full portfolio of automation solutions.</p>\, coesia_
 editor_manager
X-MICROSOFT-CDO-ALLDAYEVENT:TRUE
DTSTAMP:20260424T030200Z
END:VEVENT
END:VCALENDAR