BEGIN:VCALENDAR
VERSION:2.0
PRODID:https://www.nordenmachinery.com
X-PUBLISHED-TTL:P1W
BEGIN:VEVENT
UID:69eac051d14be
DTSTART;VALUE=DATE:20250923
SEQUENCE:0
TRANSP:OPAQUE
DTEND;VALUE=DATE:20250926
URL:https://www.nordenmachinery.com/en/exhibitions/norden-at-fachpack-2025
LOCATION:Nuremberg\, Germany
SUMMARY:Norden at FACHPACK 2025
CLASS:PUBLIC
X-ALT-DESC;FMTTYPE=text/html:<p>Join Norden at FACHPACK 2025\, Europe’s l
 eading trade fair for packaging\, technology\, and processes. From Septemb
 er 23 to 25 at Nürnberg Messe\, visit Hall 3C\, Booth 230 to explore our 
 latest tube filling and cartoning innovations.</p><p>This year marks the<s
 trong> launch of our brand-new NC 100 Cartoner</strong>\, a state-of-the-a
 rt solution that delivers speed\, flexibility\, and unmatched precision. S
 ee how Norden is shaping the future of packaging automation with:</p><ul><
 li><strong>NC 100 Cartoner – NEW LAUNCH:</strong> Automates your packagi
 ng process with up to 100 cartons per minute\, super-fast changeovers\, an
 d up to 50 pre-set formats. Multiple closure options and advanced marking 
 systems ensure full traceability.</li><li><strong>NM 902 Tube Filler – M
 aster of adaptability: </strong>Highly efficient and reliable\, handling u
 p to 100 tubes per minute (120 with the optional upgrade)\, ready for gree
 n materials\, and flexible enough for various sizes and sealing methods.</
 li></ul><p>Alongside our sister companies <strong>FlexLink</strong>\, <str
 ong>AMACO</strong>\, and <strong>Volpak</strong>\, Norden experts will be 
 on-site to discuss how our solutions can help you achieve next-level packa
 ging automation.</p>\, coesia_editor_manager
X-MICROSOFT-CDO-ALLDAYEVENT:TRUE
DTSTAMP:20260424T025857Z
END:VEVENT
END:VCALENDAR