BEGIN:VCALENDAR
VERSION:2.0
PRODID:https://www.nordenmachinery.com
X-PUBLISHED-TTL:P1W
BEGIN:VEVENT
UID:69eae75659fee
DTSTART;VALUE=DATE:20250901
SEQUENCE:0
TRANSP:OPAQUE
DTEND;VALUE=DATE:20250904
URL:https://www.nordenmachinery.com/en/exhibitions/norden-at-pharmaconex-20
 25-meet-us-in-cairo
LOCATION:Egypt International Exhibition Center\, Cairo
SUMMARY:Norden at Pharmaconex 2025 – Meet Us in Cairo
CLASS:PUBLIC
X-ALT-DESC;FMTTYPE=text/html:<p>Norden\, in collaboration with our local pa
 rtner <strong>Cesam Engineering</strong>\, will participate in <strong>Pha
 rmaconex 2025</strong>\, the leading exhibition for pharmaceutical manufac
 turing in North Africa.&nbsp\;</p>\n\n<p>📍<strong> Hall 4\, Booth K48&n
 bsp\;<br />\n📅 1–3 September 2025&nbsp\;<br />\n📌 Egypt Internatio
 nal Exhibition Center\, Cairo&nbsp\;</strong></p>\n\n<p>Join us to discove
 r how Norden’s tube filling and secondary packaging solutions can help f
 uture-proof your pharmaceutical production. Our experts will be available 
 to discuss tailored automation strategies that meet your performance and c
 ompliance goals.&nbsp\;</p>\n\n<p><strong>We look forward to seeing you in
  Cairo!</strong></p>\n\, coesia_editor_manager
X-MICROSOFT-CDO-ALLDAYEVENT:TRUE
DTSTAMP:20260424T054526Z
END:VEVENT
END:VCALENDAR