BEGIN:VCALENDAR
VERSION:2.0
PRODID:https://www.nordenmachinery.com
X-PUBLISHED-TTL:P1W
BEGIN:VEVENT
UID:69eb08948aba2
DTSTART;VALUE=DATE:20250929
SEQUENCE:0
TRANSP:OPAQUE
DTEND;VALUE=DATE:20251002
URL:https://www.nordenmachinery.com/en/exhibitions/norden-at-pack-expo-las-
 vegas-2025-experience-end-to-end-tube-packaging-automation
LOCATION:Las Vegas\, Nevada (USA)
SUMMARY:Norden at PACK EXPO Las Vegas 2025: Experience End-to-End Tube Pack
 aging Automation
CLASS:PUBLIC
X-ALT-DESC;FMTTYPE=text/html:<ul><br />\n<li>\n<p><strong>PACK EXPO Las Veg
 as | West Hall\, Coesia Booth W-1064&nbsp\;</strong></p>\n</li>\n<li>\n<p>
 <strong>Complimentary registration with our exclusive code&nbsp\;</strong>
 </p>\n</li>\n<li>\n<p><strong>Live demonstration of Norden’s integrated 
 line: NM 702 + NTP 80</strong></p>\n</li>\n</ul>\n\n<p>Join Norden at <str
 ong>PACK EXPO Las Vegas 2025</strong> and experience the future of tube pa
 ckaging automation. At our booth\, you’ll discover how Norden’s latest
  innovations deliver the flexibility and performance today's pharmaceutica
 l and personal care manufacturers demand.</p>\n\n<h2>See our tube filling 
 and packaging solution in action!</h2>\n\n<p><strong>Norden will showcase 
 a tube packaging line</strong> featuring the <strong>NM 702 tube filler</s
 trong> and <strong>NTP 80 tray and case packer</strong>.<br />\n<br />\nTh
 e <strong>NM 702</strong> is engineered for high-precision tube filling ac
 ross a variety of tube materials—plastic\, metal\, laminates\, and mono-
 materials. With optional equipment like Design-A-Seal and 3-color filling\
 , it brings flexibility to your production.&nbsp\;The <strong>NTP 80</stro
 ng>\, Norden’s compact and intuitive case and tray packer\, integrates s
 eamlessly with tube or bottle filling machines. With quick\, tool-free cha
 ngeovers\, it enables fast production switches—boosting uptime and adapt
 ability.</p>\n\n<p>Together\, this line offers a fully automated\, space-s
 aving packaging solution that streamlines tube production from fill to fin
 al pack.<br />\n<br />\nDon't miss this opportunity to connect with our ex
 perts and explore the full Coesia portfolio—including innovations from R
 .A Jones\, FlexLink\, Hapa\, MGS\, Citus Kalix\, Volpak\, and more.</p>\n\
 n\n<div align=\"left\">\n<p align=\"left\" style=\"color: #ffffff\; font-s
 ize: 12px\; text-transform: uppercase\; \"><a class=\"btn-red\" href=\"htt
 ps://www.xpressreg.net/register/pack1025/landing.asp?_gl=84S78\" rel=\"nor
 eferrer noopener\" style=\"text-decoration: none\; color: #FFFFFF\; \" tar
 get=\"_blank\">GET COMPLIMENTARY REGISTRATION</a>&nbsp\;&nbsp\;<span style
 =\"color: #222222\; font-size: 18px\; \">- use code&nbsp\;<strong>84S78</s
 trong></span></p>\n</div>\n\n<p>Add Norden to <a href=\"https://packexpo25
 .mapyourshow.com/8_0/exhibitor/exhibitor-details.cfm?exhid=16003015\" targ
 et=\"_blank\">My show planner</a></p>\n\n<p>📍 <strong>Visit us at PACK 
 EXPO Las Vegas 2025&nbsp\;</strong><br />\n🗓 <strong>September 29 – O
 ctober 1&nbsp\;</strong><br />\n📌 <strong>Las Vegas Convention Center\,
  West Hall\, Booth W-1064</strong></p>\n\n\, coesia_editor_manager
X-MICROSOFT-CDO-ALLDAYEVENT:TRUE
DTSTAMP:20260424T080716Z
END:VEVENT
END:VCALENDAR