BEGIN:VCALENDAR
VERSION:2.0
PRODID:https://www.nordenmachinery.com
X-PUBLISHED-TTL:P1W
BEGIN:VEVENT
UID:69eae0262d087
DTSTART;VALUE=DATE:20250603
SEQUENCE:0
TRANSP:OPAQUE
DTEND;VALUE=DATE:20250606
URL:https://www.nordenmachinery.com/en/exhibitions/norden-at-the-battery-sh
 ow-europe
LOCATION:Stuttgart\, Germany 
SUMMARY:Norden at The Battery Show Europe 
CLASS:PUBLIC
X-ALT-DESC;FMTTYPE=text/html:<p>From <strong>June 3 to 5</strong> Stuttgart
  becomes the home of Europe’s leading battery technology expo: <strong>T
 he Battery Show Europe</strong>.<br />\nMeet our team on the Coesia <stron
 g>Booth H30</strong> in <strong>Hall 10</strong>\, together with our siste
 r companies COMAS\, FlexLink\, G.D\, and System Electronics.  &nbsp\;<br
  />\nThe Coesia group will present its <strong>full-line production capabi
 lities</strong> developed to accelerate time to market\, enhance productiv
 ity\, and optimize total cost of ownership.<br />\nCoesia’s <strong>comp
 rehensive production line</strong> isn’t just a collection of machines\,
  it’s a strategically engineered system where each phase enhances the ne
 xt. At Norden we are proud to be part of this journey through the developm
 ent of an innovative <strong>electrolyte filling solution</strong> enhanci
 ng flexibility and modularity.  &nbsp\;</p>\n\n<p><br />\nStop by <str
 ong>Hall 10</strong>\, <strong>Booth H30</strong> to discover more and see
  how Coesia can support your transition to a smarter\, more efficient batt
 ery production line. &nbsp\;<br />\n&nbsp\;</p>\n\, coesia_editor_manage
 r
X-MICROSOFT-CDO-ALLDAYEVENT:TRUE
DTSTAMP:20260424T051446Z
END:VEVENT
END:VCALENDAR