BEGIN:VCALENDAR
VERSION:2.0
PRODID:https://www.nordenmachinery.com
X-PUBLISHED-TTL:P1W
BEGIN:VEVENT
UID:69eae0c0f0a35
DTSTART;VALUE=DATE:20250527
SEQUENCE:0
TRANSP:OPAQUE
DTEND;VALUE=DATE:20250531
URL:https://www.nordenmachinery.com/en/exhibitions/norden-showcases-advance
 d-packaging-solutions-at-ipack-ima-pharmaintech-2025
LOCATION:Fiera Milano\, Milan\, Italy
SUMMARY:Norden Showcases Advanced Packaging Solutions at IPACK-IMA & Pharmi
 ntech 2025
CLASS:PUBLIC
X-ALT-DESC;FMTTYPE=text/html:<ul>\n<li>\n<p><strong>IPACK-IMA | Hall 7\, Bo
 oth A46-B45 &nbsp\;</strong></p>\n</li>\n<li>\n<p><strong>Pharmintech | 
 Hall 2\, Booth B28-C27 &nbsp\;</strong></p>\n</li>\n<li>\n<p><strong>Lea
 rn more about packaging automation for Fast Moving Consumer Goods and Phar
 ma &nbsp\;</strong></p>\n</li>\n</ul>\n\n<p>Norden\, a global leader in 
 automated tube filling and secondary packaging solutions\, will be present
  at <strong>IPACK-IMA</strong> and <strong>Pharmaintech 2025</strong>\, tw
 o of the most significant international trade fairs dedicated to processin
 g and packaging for the pharmaceutical and consumer goods industries. With
  its sister companies Atlantic Zeiser\, Citux Kalix\, FlexLink\, Norden\, 
 Volpak\, and Coesia partner PWR\, Norden will highlight its latest advance
 ments in<strong> cartoning\, case packing\, and tray packing solutions</st
 rong>\, designed to enhance efficiency and flexibility.&nbsp\;</p>\n\n<p>A
 mong the key solutions is the <strong>NC 100\, a high-performance cartoner
  capable of reaching up to 100 cartons per minute</strong>. Developed spec
 ifically for pharmaceutical packaging\, it ensures super-fast changeovers 
 and offers both leading and trailing edge carton erection for maximum desi
 gn and print flexibility. Complementing this is the <strong>NTP 170\, a ca
 se and tray packing machine that efficiently packs up to 170 tubes per min
 ute in trays or boxes</strong>\, making it an ideal fit for tube fillers i
 n the 85 to 170 tubes per minute range. This solution stands out for its <
 strong>compact footprint\, quick changeovers\, and unmatched adaptability<
 /strong>.&nbsp\;</p>\n\n<p>Norden will also emphasize the <strong>NCE 14\,
  a case erector that forms up to 14 cases per minute from flat cardboard b
 lanks\, delivering reliability and ease of use</strong>. Designed with fle
 xibility in mind\, it accommodates various case sizes while maintaining a 
 compact footprint. Alongside it\, the <strong>NCS 14 case sealer ensures s
 eamless automation by sealing pre-filled cases with tape at speeds of up t
 o 14 cases per minute\, streamlining the final stage of the packaging proc
 ess</strong>.&nbsp\;</p>\n\n<p>Visitors at IPACK-IMA and Pharmaintech 2025
  will have the opportunity to <strong>explore how Norden’s advanced pack
 aging technologies can optimize efficiency and production workflows</stron
 g>. Experts will be available to discuss tailored solutions and demonstrat
 e how Norden’s innovations align with the evolving needs of the pharmace
 utical and FMCG industries.&nbsp\;</p>\n\, coesia_editor_manager
X-MICROSOFT-CDO-ALLDAYEVENT:TRUE
DTSTAMP:20260424T051720Z
END:VEVENT
END:VCALENDAR