BEGIN:VCALENDAR
VERSION:2.0
PRODID:https://www.nordenmachinery.com
X-PUBLISHED-TTL:P1W
BEGIN:VEVENT
UID:69eae0262d08e
DTSTART;VALUE=DATE:20250422
SEQUENCE:0
TRANSP:OPAQUE
DTEND;VALUE=DATE:20250426
URL:https://www.nordenmachinery.com/en/exhibitions/meet-norden-in-south-kor
 ea-at-cophex-2025
LOCATION:Korea International Exhibition Center 1\, Seoul
SUMMARY:Meet Norden in South Korea at COPHEX 2025
CLASS:PUBLIC
X-ALT-DESC;FMTTYPE=text/html:<p>On <strong>April 22 to 25</strong> the Nord
 en team is ready to meet you in Seoul at <strong>COPHEX 2025!</strong> Joi
 n the 20th edition of the exhibition to discover the latest innovations in
  the pharmaceutical\, bio and cosmetic industries.</p>\n\n<p>Norden will a
 ttend the show together with our<strong> local partner Innotech Systems Lt
 d.</strong> at <strong>booth 5A90\, Hall 5</strong>\, as a selected suppli
 er of high-performance tube filling systems compliant with all the necessa
 ry requirements for <strong>pharmaceutical production</strong>.&nbsp\;</p>
 \n\n<p>Stop by and get the chance to explore the possibilities of enhanced
  efficiency and quality in your packaging lines: from <strong>reliable tub
 e filling</strong> equipment to <strong>fully automated tray and case pack
 ing</strong> integrated solutions\, Norden is the right partner to master 
 pharmaceutical tube filling. &nbsp\;</p>\n\n<p>Meet our experts in South K
 orea!&nbsp\;</p>\n\, coesia_editor_manager
X-MICROSOFT-CDO-ALLDAYEVENT:TRUE
DTSTAMP:20260424T051446Z
END:VEVENT
END:VCALENDAR