BEGIN:VCALENDAR
VERSION:2.0
PRODID:https://www.nordenmachinery.com
X-PUBLISHED-TTL:P1W
BEGIN:VEVENT
UID:69eb4f7e8e984
DTSTART;VALUE=DATE:20241117
SEQUENCE:0
TRANSP:OPAQUE
DTEND;VALUE=DATE:20241120
URL:https://www.nordenmachinery.com/en/exhibitions/join-norden-at-cipm-in-c
 hina
LOCATION:Xiamen\, China
SUMMARY:Join Norden at CIPM in China
CLASS:PUBLIC
X-ALT-DESC;FMTTYPE=text/html:<p>Xiamen International Exposition Center</p>\
 n\n<p>More info coming soon!</p>\n\, coesia_editor_manager
X-MICROSOFT-CDO-ALLDAYEVENT:TRUE
DTSTAMP:20260424T130950Z
END:VEVENT
END:VCALENDAR