BEGIN:VCALENDAR
VERSION:2.0
PRODID:https://www.nordenmachinery.com
X-PUBLISHED-TTL:P1W
BEGIN:VEVENT
UID:69eb0ac2251b2
DTSTART;VALUE=DATE:20241009
SEQUENCE:0
TRANSP:OPAQUE
DTEND;VALUE=DATE:20241013
URL:https://www.nordenmachinery.com/en/exhibitions/norden-ravinco-are-parti
 cipating-at-allpack-indonesia
LOCATION:Kemayoran\, Jakarta – Indonesia
SUMMARY:Norden & Ravinco are participating at AllPack Indonesia!
CLASS:PUBLIC
X-ALT-DESC;FMTTYPE=text/html:<p>Visit us at <strong>AllPack Indonesia</stro
 ng>\, the international exhibition on processing\, packaging\, automation\
 , handling for food &amp\; beverage\, pharmaceutical and cosmetic.</p>\n\n
 <h3>Come and experience the future of packaging with us!</h3>\n\n<p>Take t
 he opportunity to explore our NML 150 tube filler designed for precision a
 nd performance. Our team will be on hand to demonstrate how our automated 
 packaging solutions can enhance efficiency and ensure top-quality packagin
 g for your products.</p>\n\n<p>Visit Norden at its Ravinco agent <strong>b
 ooth #AC011&nbsp\;</strong><br />\nWe look forward to meeting you at AllPa
 ck Indonesia</p>\n\, coesia_editor_manager
X-MICROSOFT-CDO-ALLDAYEVENT:TRUE
DTSTAMP:20260424T081634Z
END:VEVENT
END:VCALENDAR