BEGIN:VCALENDAR
VERSION:2.0
PRODID:https://www.nordenmachinery.com
X-PUBLISHED-TTL:P1W
BEGIN:VEVENT
UID:69ecc8b596965
DTSTART;VALUE=DATE:20241104
SEQUENCE:0
TRANSP:OPAQUE
DTEND;VALUE=DATE:20241108
URL:https://www.nordenmachinery.com/en/exhibitions/visit-norden-at-all4pack
 -paris
LOCATION:Paris\, France
SUMMARY:Visit Norden at All4Pack Paris!
CLASS:PUBLIC
X-ALT-DESC;FMTTYPE=text/html:<p>Join us at All4Pack\, the leading internati
 onal trade fair for packaging and intralogistics solutions in Paris\, and 
 discover how to elevate your packing production.</p>\n\n<h3>Come and explo
 re our innovation!&nbsp\;</h3>\n\n<p>Automating your bottle packing will h
 ave a big impact on your production output. With the <strong>new bottle op
 tion\,</strong> the <strong>NTP 80</strong> can handle both bottles and tu
 bes in the same machine. This option can be added as an upgrade to your ex
 isting NTP 80 or an upgrade in the field.&nbsp\;</p>\n\n<p>&nbsp\;<br />\n
 <strong>Live demo&nbsp\;</strong><br />\nOur team will be on hand to demon
 strate our NTP80 equipped with the new bottle option\, designed to enhance
  efficiency in your packaging process. Take the opportunity to connect wit
 h our experts and discuss the future of packing!&nbsp\;</p>\n\n<p>&nbsp\;<
 br />\n<strong>Norden a part of Coesia</strong>&nbsp\;</p>\n\n<p>Coesia su
 pports its customers in every step of their manufacturing process\, thanks
  to a wide portfolio of cutting-edge automation solutions that ensure prod
 uction reliability and divert operators towards added-value tasks.&nbsp\;<
 /p>\n\n<p>From intelligent object picking solutions for material loading a
 nd infeed to inline transfer\, down to industrial and collaborative roboti
 c solutions for end of line management\, we are your go-to partner in the 
 journey towards full line automation where a seamless machinery-operator i
 ntegration results in footprint optimization and leaner production flows.&
 nbsp\;</p>\n\n<p>Discover Coesia’s automation portfolio and learn how to
  improve production flow efficiency and speed\, making your operations aut
 onomous and lean.&nbsp\;</p>\n\n<p>We look forward to welcoming you to All
 4Pack in Paris &nbsp\;</p>\n\, coesia_editor_manager
X-MICROSOFT-CDO-ALLDAYEVENT:TRUE
DTSTAMP:20260425T155917Z
END:VEVENT
END:VCALENDAR