BEGIN:VCALENDAR
VERSION:2.0
PRODID:https://www.nordenmachinery.com
X-PUBLISHED-TTL:P1W
BEGIN:VEVENT
UID:69eae78e81893
DTSTART;VALUE=DATE:20241126
SEQUENCE:0
TRANSP:OPAQUE
DTEND;VALUE=DATE:20241129
URL:https://www.nordenmachinery.com/en/exhibitions/engage-with-us-at-chpi-p
 mec-india-
LOCATION:Delhi\, India
SUMMARY:Engage with us at CHPI PMEC India 
CLASS:PUBLIC
X-ALT-DESC;FMTTYPE=text/html:<p>We invite you to visit our booth <strong>in
  Delhi from November 26th to 28th</strong>\, to attend <strong>CHPI 
 PMEC India</strong>\, &nbsp\;the premier event in the South Asian pharma
 ceutical industry.&nbsp\;</p>\n\n<p>Norden is the leader in pharmaceutical
  tube filling solutions\, designed to meet the evolving needs of the pharm
 a industry. At CHPI PMEC 2024\, you will meet our experts and explore how 
 you can benefit from our latest machine releases and product news. &nbsp\;
 </p>\n\n<p>Join us at the <strong>Coesia booth RH. L48</strong> &nbsp\;</p
 >\n\n<p>Navigating the complexities of pharmaceutical manufacturing presen
 ts significant challenges. At Coesia\, we specialize in enhancing processe
 s within pharmaceutical production\, offering tailored solutions to addres
 s industry demands. Leveraging our expertise in packaging and complex flow
  automation\, we empower manufacturers to seamlessly overcome challenges.&
 nbsp\;</p>\n\n<p>From printing and filling to cartoning\, handling\, and v
 ision inspection\, join us in shaping the future of pharmaceutical manufac
 turing.&nbsp\;</p>\n\, coesia_editor_manager
X-MICROSOFT-CDO-ALLDAYEVENT:TRUE
DTSTAMP:20260424T054622Z
END:VEVENT
END:VCALENDAR