BEGIN:VCALENDAR
VERSION:2.0
PRODID:https://www.nordenmachinery.com
X-PUBLISHED-TTL:P1W
BEGIN:VEVENT
UID:69eae76ac01c1
DTSTART;VALUE=DATE:20240924
SEQUENCE:0
TRANSP:OPAQUE
DTEND;VALUE=DATE:20240927
URL:https://www.nordenmachinery.com/en/exhibitions/ppma-total-show
LOCATION:Birmingham\, UK 
SUMMARY:Join Norden at PPMA Birmingham
CLASS:PUBLIC
X-ALT-DESC;FMTTYPE=text/html:<p>Join us in Birmingham from September 24
 th to 26th\, to attend PPMA.&nbsp\;</p>\n\n<p>The PPMA Show is a vital
  UK platform for networking and discovering the latest trends in packaging
  technology\, and we are excited to be part of it.&nbsp\;</p>\n\n<p>Our te
 am of experts will be available for live demonstrations\, providing insigh
 ts into how our <strong>NTP 80</strong>\, our case and tray packer\, now c
 apable of <strong>packing both tubes and bottles</strong> with the same ma
 chine\, can streamline your operations. &nbsp\;</p>\n\n<p>Take the opportu
 nity also to discuss with our experts about <strong>NM 702</strong>\, our 
 <strong>tube filler</strong> for plastic\, laminate &amp\; aluminum tubes.
 &nbsp\;</p>\n\n<p>Norden will be represented at the <strong>Coesia booth
  Hall 5 Booth E54</strong>.&nbsp\;</p>\n\n<p>&nbsp\;</p>\n\n<h3>AUTOMATION
  IS KEY TO SUCCEED IN THE UNFOLDING MANUFACTURING WORLD &nbsp\;</h3>\n\n
 <p>Coesia supports its customers in every step of their manufacturing proc
 ess\, thanks to a wide portfolio of cutting-edge automation solutions that
  ensure production reliability and divert operators towards added-value ta
 sks. &nbsp\;</p>\n\n<p>From intelligent object picking solutions for mat
 erial loading and infeed to inline transfer\, down to industrial and colla
 borative robotic solutions for end of line management\, we are your go-to 
 partner in the journey towards full line automation where a seamless machi
 nery-operator integration results in footprint optimization and leaner pro
 duction flows. &nbsp\;</p>\n\n<p>Discover Coesia’s automation portfoli
 o and learn how to improve production flow efficiency and speed\, making y
 our operations autonomous and lean. &nbsp\;</p>\n\n<p>We look forward to
  meeting you at the show!&nbsp\;</p>\n\, coesia_editor_manager
X-MICROSOFT-CDO-ALLDAYEVENT:TRUE
DTSTAMP:20260424T054546Z
END:VEVENT
END:VCALENDAR