BEGIN:VCALENDAR
VERSION:2.0
PRODID:https://www.nordenmachinery.com
X-PUBLISHED-TTL:P1W
BEGIN:VEVENT
UID:69ecc7d635d5e
DTSTART;VALUE=DATE:20241022
SEQUENCE:0
TRANSP:OPAQUE
DTEND;VALUE=DATE:20241026
URL:https://www.nordenmachinery.com/en/exhibitions/scanpack-2024
LOCATION:Gothenburg\, Sweden 
SUMMARY:Visit Norden at SCANPACK 2024! 
CLASS:PUBLIC
X-ALT-DESC;FMTTYPE=text/html:<p>We invite you to visit our booth in <strong
 >Gothenburg</strong> from <strong>October 22nd to 25th</strong> at
  <strong>SCANPACK</strong>\, the meeting place for the Scandinavian pa
 ckaging industry.&nbsp\;</p>\n\n<h3>Unlock enhanced efficiency and flexibi
 lity with our latest innovations in automated packaging solutions and disc
 over how our complete modular line can drive your success. &nbsp\;</h3>\n\
 n<p>Starting with the <strong>NTP 80</strong>\, our <strong>case and tray 
 packer</strong>\, (now capable of packing both bottles and tubes with the 
 same machine)\, customers can now integrate additional equipment before\, 
 our <strong>NCE 14 carton erector</strong> or after\, our <strong>NCS 14 c
 ase sealer</strong>.&nbsp\;</p>\n\n<p>Norden will be represented at the 
 <strong>Coesia booth B07.22&nbsp\;</strong></p>\n\n<p>Coesia supports its 
 customers in every step of their manufacturing process\, thanks to a wide 
 portfolio of cutting-edge automation solutions that ensure production reli
 ability and divert operators towards added-value tasks. &nbsp\;</p>\n\n<
 p>From intelligent object picking solutions for material loading and infee
 d to inline transfer\, down to industrial and collaborative robotic soluti
 ons for end of line management\, we are your go-to partner in the journey 
 towards full line automation where a seamless machinery-operator integrati
 on results in footprint optimization and leaner production flows. &nbsp\
 ;</p>\n\n<p>Discover Coesia’s automation portfolio and learn how to impr
 ove production flow efficiency and speed\, making your operations autonomo
 us and lean. &nbsp\;</p>\n\n<p>Unpack the future with us at Scanpack!&nb
 sp\;</p>\n\, coesia_editor_manager
X-MICROSOFT-CDO-ALLDAYEVENT:TRUE
DTSTAMP:20260425T155534Z
END:VEVENT
END:VCALENDAR