BEGIN:VCALENDAR
VERSION:2.0
PRODID:https://www.nordenmachinery.com
X-PUBLISHED-TTL:P1W
BEGIN:VEVENT
UID:69eaf521c6532
DTSTART;VALUE=DATE:20240924
SEQUENCE:0
TRANSP:OPAQUE
DTEND;VALUE=DATE:20240927
URL:https://www.nordenmachinery.com/en/exhibitions/fachpack-2024
LOCATION:Nuremberg\, Germany 
SUMMARY:FACHPACK 2024
CLASS:PUBLIC
X-ALT-DESC;FMTTYPE=text/html:<p>We invite you to visit our booth in Nurembe
 rg from <strong>September 24th to 26th</strong>\, to attend <strong>
 FACHPACK</strong>\, Europe’s leading trade fair for packaging\, techno
 logy and processes.&nbsp\;</p>\n\n<p>Discover our <strong>latest innovatio
 ns in automated packaging solutions</strong> designed to enhance the effic
 iency and flexibility of your operations. &nbsp\;</p>\n\n<p>Explore how we
  can drive your success with our complete modular line. Starting with the 
 <strong>NTP 80</strong>\, our <strong>case and tray packer</strong>\, (now
  <strong>capable of packing both bottles and tubes</strong> with the same 
 machine)\, customers can now integrate additional equipment before\, our <
 strong>NCE 14 carton erector</strong> or after\, our <strong>NCS 14 case s
 ealer</strong>.&nbsp\;</p>\n\n<p>Take the opportunity also to discuss with
  our experts about NM 702\, our tube filler for plastic\, laminate &amp\; 
 aluminum tubes.&nbsp\;</p>\n\n<p>Norden will be represented at the <stro
 ng>Coesia booth Hall 3C / Booth Number 3C-230</strong>&nbsp\;</p>\n\n<
 h3>AUTOMATION IS KEY TO SUCCEED IN THE UNFOLDING MANUFACTURING WORLD &nb
 sp\;</h3>\n\n<p>Coesia supports its customers in every step of their manuf
 acturing process\, thanks to a wide portfolio of cutting-edge automation s
 olutions that ensure production reliability and divert operators towards a
 dded-value tasks. &nbsp\;</p>\n\n<p>From intelligent object picking solu
 tions for material loading and infeed to inline transfer\, down to industr
 ial and collaborative robotic solutions for end of line management\, we ar
 e your go-to partner in the journey towards full line automation where a s
 eamless machinery-operator integration results in footprint optimization a
 nd leaner production flows. &nbsp\;</p>\n\n<p>Discover Coesia’s automa
 tion portfolio and learn how to improve production flow efficiency and spe
 ed\, making your operations autonomous and lean. &nbsp\;</p>\n\, coesia_
 editor_manager
X-MICROSOFT-CDO-ALLDAYEVENT:TRUE
DTSTAMP:20260424T064417Z
END:VEVENT
END:VCALENDAR