BEGIN:VCALENDAR
VERSION:2.0
PRODID:https://www.nordenmachinery.com
X-PUBLISHED-TTL:P1W
BEGIN:VEVENT
UID:69ed2edcec0d1
DTSTART;VALUE=DATE:20241103
SEQUENCE:0
TRANSP:OPAQUE
DTEND;VALUE=DATE:20241107
URL:https://www.nordenmachinery.com/en/exhibitions/norden-is-participating-
 at-pack-expo-chicago-2024
LOCATION:CHICAGO (IL)\, USA
SUMMARY:Norden is participating at PACK EXPO Chicago 2024
CLASS:PUBLIC
X-ALT-DESC;FMTTYPE=text/html:<p>We invite you to join us in Chicago from No
 vember 3rd to 6th\, to attend Pack Expo\, the largest packaging and proces
 sing show of the year.</p>\n\n<h3 style=\"font-size: 28px\;\">Live demonst
 ration of our new automated packaging solutions</h3>\n\n<p>Experience our 
 latest innovations live at our booth and discover our new complete modular
  line to enhance the efficiency and flexibility of your packaging process!
 &nbsp\;<br />\nStarting with the <strong>NTP 80</strong>\, our <strong>car
 ton and tray packer</strong>\, (now capable of <strong>packing both bottle
 s and tubes</strong> with the same machine)\, customers can now integrate 
 additional equipment before\, our <strong>NCE 14 carton erecto</strong>r o
 r after\, our <strong>NCS 14 case sealer</strong>.<br />\nTake the opportu
 nity also to discuss with our experts about <strong>NM 702</strong>\, our 
 <strong>tube filler</strong> for plastic\, laminate &amp\; aluminum tubes.
 </p>\n\n<p>Norden will be represented at the <strong>Coesia booth</strong>
  Hall South N. n° S-2501. At Coesia\, we understand the complexities of p
 ackaging and processing. Our expertise in industrial process automation an
 d complex flow automation helps manufacturers meet these challenges effici
 ently. At our booth\, you will have the opportunity to learn more about ou
 r digitally enhanced services\, e-commerce\, and sustainability\, while ha
 ving the chance to dive deep into industrial automation with our latest pr
 oduct launches and solutions\, thanks to our companies.&nbsp\;<br />\n&nbs
 p\;<br />\nWe look forward to meeting you and discussing how we can help s
 treamline your operations.&nbsp\;</p>\n\, coesia_editor_manager
X-MICROSOFT-CDO-ALLDAYEVENT:TRUE
DTSTAMP:20260425T231508Z
END:VEVENT
END:VCALENDAR