BEGIN:VCALENDAR
VERSION:2.0
PRODID:https://www.nordenmachinery.com
X-PUBLISHED-TTL:P1W
BEGIN:VEVENT
UID:69eaf9e11af35
DTSTART;VALUE=DATE:20240610
SEQUENCE:0
TRANSP:OPAQUE
DTEND;VALUE=DATE:20240615
URL:https://www.nordenmachinery.com/en/exhibitions/join-norden-at-achema-in
 -frankfurt-am-main-
LOCATION:Frankfurt am Main\, Germany
SUMMARY:Join Norden at Achema in Frankfurt am Main 
CLASS:PUBLIC
X-ALT-DESC;FMTTYPE=text/html:<ul>\n<li>Join Norden at Achema June 10th to 1
 4th</li>\n<li>Hall 3 Booth D73&nbsp\;</li>\n<li>Explore new options to ele
 vate your tube filling production</li>\n</ul>\n\n<p>We invite you to join 
 <strong>Norden</strong>\, a Coesia company\, in <strong>Frankfurt am Main
  from June 10th to 14th\,</strong> to attend <strong>Achema\,</str
 ong> the most famous pharma exhibition in Europe. &nbsp\;</p>\n\n<p>Nord
 en will be represented at the <strong>Coesia Group Booth D73 - Hall 3\,<
 /strong> with our sister companies MGS\, GF\, FlexLink\, Hapa and Volpak.&
 nbsp\;</p>\n\n<p>Visit our booth and explore how to elevate your tube fill
 ing production with our NM 902\, tube filling machine suitable for clean r
 oom production\, with a speed of up to 100 tubes/min.&nbsp\;</p>\n\n<p><a 
 href=\"https://www.nordenmachinery.com/en/solutions/product/nm-902\">NM 90
 2 Tube Filling Machine.</a></p>\n\n<p>Coesia continues to support customer
 s in tackling the latest manufacturing challenges in the pharmaceutical se
 ctor. Leveraging our packaging excellence - encompassing printing\, fillin
 g\, cartoning\, pouching\, and vision inspection - as well as expertise in
  complex flow automation projects\, at Coesia we are eager to build a <str
 ong>new skyline in the Pharma industry.&nbsp\;</strong></p>\n\n<p>We look 
 forward to meeting you at ACHEMA.</p>\n\n<p><strong>Meet us</strong><br 
 />\nMesse Frankfurt GmbH<br />\nLudwig-Erhard-Anlage 1<br />\n60327 Frankf
 urt am Main<br />\nHall 3.0 Booth D73</p>\n\, coesia_editor_manager
X-MICROSOFT-CDO-ALLDAYEVENT:TRUE
DTSTAMP:20260424T070433Z
END:VEVENT
END:VCALENDAR