BEGIN:VCALENDAR
VERSION:2.0
PRODID:https://www.nordenmachinery.com
X-PUBLISHED-TTL:P1W
BEGIN:VEVENT
UID:69eae9e512349
DTSTART;VALUE=DATE:20240618
SEQUENCE:0
TRANSP:OPAQUE
DTEND;VALUE=DATE:20240621
URL:https://www.nordenmachinery.com/en/exhibitions/meet-norden-at-the-batte
 ry-show-europe
LOCATION:Stuttgart\, Germany
SUMMARY:Meet Norden at The Battery Show Europe
CLASS:PUBLIC
X-ALT-DESC;FMTTYPE=text/html:<ul>\n<li>Norden at the Battery Show Europe 18
 -20 June in Stuttgart</li>\n<li>Hall 4\, Booth A30-37</li>\n<li>Learn more
  about Energy Storage Systems and E-mobility</li>\n</ul>\n\n<p>We invite y
 ou to join us in <strong>Stuttgart</strong> from <strong>June 18th to 20th
 \,</strong> to attend&nbsp\;<strong>The Battery Show Europe\,</strong> the
  primary event for European players in the <strong>Energy Storage Systems<
 /strong> and <strong>E-mobilit</strong>y industries.&nbsp\;</p>\n\n<p>Nord
 en will be represented at the <strong>Coesia Group Booth A30-37 - Hall 4\,
 </strong> together with our sister companies COMAS\, G.D\, FlexLink\, Syst
 em Electronics and CIMA.&nbsp\;</p>\n\n<p>Stop by and explore how Coesia e
 xperts are <strong>redesigning battery cell production</strong> to provide
  <strong>fully integrated and optimized lines </strong>developed to increa
 se throughput and contain TCO.&nbsp\;</p>\n\n<p><strong>Meet us</strong><b
 r />\nBattery Show Europe\, 18-20 June 2024<br />\nStuttgart Trade Fair Ce
 ntre\, Messepiazza 1\, 70629 Stuttgart\, Germany&nbsp\;<br />\nHall 4\, Bo
 oth A30-37</p>\n\, coesia_editor_manager
X-MICROSOFT-CDO-ALLDAYEVENT:TRUE
DTSTAMP:20260424T055621Z
END:VEVENT
END:VCALENDAR