BEGIN:VCALENDAR
VERSION:2.0
PRODID:https://www.nordenmachinery.com
X-PUBLISHED-TTL:P1W
BEGIN:VEVENT
UID:69eaffb399407
DTSTART;VALUE=DATE:20240416
SEQUENCE:0
TRANSP:OPAQUE
DTEND;VALUE=DATE:20240419
URL:https://www.nordenmachinery.com/en/exhibitions/norden-machinery-is-part
 icipating-at-interphex-new-york-usa-
LOCATION:New York\, USA
SUMMARY:INTERPHEX\, New York\, USA  
CLASS:PUBLIC
X-ALT-DESC;FMTTYPE=text/html:<ul>\n<li>Norden at INTERPHEX 16-18 April\, US
 A</li>\n<li>Booth #2905</li>\n</ul>\n\n<p>Join Norden\, a Coesia company\,
  and take the opportunity to discover how to elevate your tube packaging p
 rocess with our cutting-edge tube filling systems. Mark your calendars Apr
 il 16-18 and meet our team for engaging discussions and exclusive insights
 .&nbsp\;</p>\n\n<p><strong>Meet us</strong><br />\nINTERPHEX\, 16-18 April
  2024<br />\nJacob Javits Convention Center\, 429 11th Ave\, New York\, NY
  1000\, US<br />\nBooth #2905</p>\n\n<p>Add Norden to your <a href=\"https
 ://www.interphex.com/en-us/show-info/exhibitor-list/exhibitor-details.coes
 ia%20group.org-6ca06172-a631-4004-a8bf-68b5d9276021.html#/\">Plan</a> and 
 we look forward to meeting you.</p>\n\, coesia_editor_manager
X-MICROSOFT-CDO-ALLDAYEVENT:TRUE
DTSTAMP:20260424T072923Z
END:VEVENT
END:VCALENDAR