BEGIN:VCALENDAR
VERSION:2.0
PRODID:https://www.nordenmachinery.com
X-PUBLISHED-TTL:P1W
BEGIN:VEVENT
UID:69eae731dce5c
DTSTART;VALUE=DATE:20240423
SEQUENCE:0
TRANSP:OPAQUE
DTEND;VALUE=DATE:20240427
URL:https://www.nordenmachinery.com/en/exhibitions/norden-machinery-innotec
 h-systems-ltd-are-participating-at-cophex-south-korea-
LOCATION:Goyang South Korea
SUMMARY:COPHEX\, South Korea
CLASS:PUBLIC
X-ALT-DESC;FMTTYPE=text/html:<ul>\n<li>Norden is at COPHEX</li>\n<li>Booth#
  5A901</li>\n</ul>\n\n<p>Join Norden\, a Coesia company\, at COPHEX.&nbsp\
 ;From tube filling to automated tray and case packing\, our solutions are 
 designed to optimize production processes and elevate packaging standards 
 across industries. &nbsp\;Take the opportunity to learn more about how our
  technology can revolutionize your operations. &nbsp\;</p>\n\n<p>Visit us 
 at booth #5A901 with our local partner Innotech Systems Ltd. to explore th
 e possibilities of enhanced efficiency and quality in tube filling and pac
 kaging.&nbsp\;</p>\n\n<p><strong>Meet us</strong><br />\nCOPHEX\, April 23
 -26\, 2024&nbsp\;<br />\nKintex - Korea International Exhibition Center 21
 7-60\, Kintex-ro\, Ilsanseo-gu\, Goyang-si\, Gyeonggi-do\, Korea<br />\nBo
 oth #5A901</p>\n\n<p>We look forward to meeting you at COPHEX.&nbsp\;</p
 >\n\, coesia_editor_manager
X-MICROSOFT-CDO-ALLDAYEVENT:TRUE
DTSTAMP:20260424T054449Z
END:VEVENT
END:VCALENDAR